BEGIN:VCALENDAR
VERSION:2.0
PRODID:spatie/icalendar-generator
DESCRIPTION:Events from Independent Players
X-WR-CALDESC:Events from Independent Players
REFRESH-INTERVAL;VALUE=DURATION:PT1440M
X-PUBLISHED-TTL:PT1440M
BEGIN:VTIMEZONE
TZID:America/Chicago
BEGIN:STANDARD
DTSTART:20191103T020000Z
TZOFFSETFROM:-0500
TZOFFSETTO:-0600
END:STANDARD
BEGIN:DAYLIGHT
DTSTART:20200308T020000Z
TZOFFSETFROM:-0600
TZOFFSETTO:-0500
END:DAYLIGHT
END:VTIMEZONE
BEGIN:VTIMEZONE
TZID:UTC
BEGIN:STANDARD
DTSTART:20250729T164258Z
TZOFFSETFROM:+0000
TZOFFSETTO:+0000
END:STANDARD
END:VTIMEZONE
BEGIN:VEVENT
UID:1237-35
DTSTAMP:20260425T164258Z
SUMMARY:The Government Inspector
LOCATION:Elgin Art Showcase Elgin Art Showcase 164 Division Street Elgin IL
  60120
ORGANIZER;CN=Don Haefliger:MAILTO:independentplayers322@gmail.com
DTSTART;TZID=America/Chicago:20200320T193000
DTEND;TZID=America/Chicago:20200320T213000
X-ALT-DESC;FMTTYPE=TEXT/HTML:Mistaken Identity Russian Style: Gogol Satires
  Soviet Life What happens when an unlucky nobody is mistaken for a powerfu
 l Russian government official by a group of corrupt small town officials? 
 Find out when INDEPENDENT PLAYERS presents Nikolai Gogol’s The Governmen
 t Inspector Fridays and Saturdays\, March 6-7\, 13-14\, 20-21\, 2020 at th
 e Elgin Art Showcase\, 164&amp;hellip\;
CATEGORIES:General
URL;VALUE=URI:https://independentplayers.org/mc-events/the-government-inspe
 ctor-5/?mc_id=1237
END:VEVENT
END:VCALENDAR