BEGIN:VCALENDAR
VERSION:2.0
PRODID:spatie/icalendar-generator
DESCRIPTION:Events from Independent Players
X-WR-CALDESC:Events from Independent Players
REFRESH-INTERVAL;VALUE=DURATION:PT1440M
X-PUBLISHED-TTL:PT1440M
BEGIN:VTIMEZONE
TZID:America/Chicago
BEGIN:STANDARD
DTSTART:20221106T020000Z
TZOFFSETFROM:-0500
TZOFFSETTO:-0600
END:STANDARD
BEGIN:DAYLIGHT
DTSTART:20230312T020000Z
TZOFFSETFROM:-0600
TZOFFSETTO:-0500
END:DAYLIGHT
END:VTIMEZONE
BEGIN:VTIMEZONE
TZID:UTC
BEGIN:STANDARD
DTSTART:20250728T095351Z
TZOFFSETFROM:+0000
TZOFFSETTO:+0000
END:STANDARD
END:VTIMEZONE
BEGIN:VEVENT
UID:1282-74
DTSTAMP:20260424T095351Z
SUMMARY:CAMILLE - The Lady of the Camillias
LOCATION:
ORGANIZER;CN=Don Haefliger:MAILTO:independentplayers322@gmail.com
DTSTART;TZID=America/Chicago:20230311T193000
DTEND;TZID=America/Chicago:20230311T213000
X-ALT-DESC;FMTTYPE=TEXT/HTML:INDEPENDENT PLAYERS opened its 2022-2023 Seas
 on in September with TWO ROOMS\, a very serious political drama concernin
 g the kidnapping of Americans by terrorists in Beirut by the contemporary 
 American playwright Lee Blessing. In March\, IP is presenting what it cons
 iders the perfect antidote–Camille (“The Lady of the Camillias”) by
  the 19th Century French playwright Alexandre Dumas fils.  In essence\
 , this play&amp;hellip\;
CATEGORIES:General
URL;VALUE=URI:https://independentplayers.org/mc-events/camille-the-lady-of-
 the-camillias-4/?mc_id=1282
END:VEVENT
END:VCALENDAR