BEGIN:VCALENDAR
VERSION:2.0
PRODID:spatie/icalendar-generator
DESCRIPTION:Events from Independent Players
X-WR-CALDESC:Events from Independent Players
REFRESH-INTERVAL;VALUE=DURATION:PT1440M
X-PUBLISHED-TTL:PT1440M
BEGIN:VTIMEZONE
TZID:America/Chicago
BEGIN:DAYLIGHT
DTSTART:20220313T020000Z
TZOFFSETFROM:-0600
TZOFFSETTO:-0500
END:DAYLIGHT
BEGIN:STANDARD
DTSTART:20221106T020000Z
TZOFFSETFROM:-0500
TZOFFSETTO:-0600
END:STANDARD
BEGIN:DAYLIGHT
DTSTART:20230312T020000Z
TZOFFSETFROM:-0600
TZOFFSETTO:-0500
END:DAYLIGHT
END:VTIMEZONE
BEGIN:VTIMEZONE
TZID:UTC
BEGIN:STANDARD
DTSTART:20250728T141226Z
TZOFFSETFROM:+0000
TZOFFSETTO:+0000
END:STANDARD
END:VTIMEZONE
BEGIN:VEVENT
UID:1259-55
DTSTAMP:20260424T141226Z
SUMMARY:TWO ROOMS
LOCATION:
ORGANIZER;CN=Don Haefliger:MAILTO:independentplayers322@gmail.com
DTSTART;TZID=America/Chicago:20220925T140000
DTEND;TZID=America/Chicago:20220925T150000
X-ALT-DESC;FMTTYPE=TEXT/HTML:INDEPENDENT PLAYERS presents Lee Blessing’s 
 TWO ROOMS The wife of an American kidnapped by Hezbollah in Beirut in the 
 1980s struggles to get him freed.  With no help or commitment from her ow
 n government\, she returns home and forges an imaginary link with him in t
 he room she presumes he is being kept. Independent Players&amp;hellip\;
CATEGORIES:General
URL;VALUE=URI:https://independentplayers.org/mc-events/two-rooms-6/?mc_id=1
 259
END:VEVENT
END:VCALENDAR